BEGIN:VCALENDAR
VERSION:2.0
PRODID:-//Youth Nation - ECPv6.1.3//NONSGML v1.0//EN
CALSCALE:GREGORIAN
METHOD:PUBLISH
X-WR-CALNAME:Youth Nation
X-ORIGINAL-URL:https://youthnation.org.in
X-WR-CALDESC:Events for Youth Nation
REFRESH-INTERVAL;VALUE=DURATION:PT1H
X-Robots-Tag:noindex
X-PUBLISHED-TTL:PT1H
BEGIN:VTIMEZONE
TZID:UTC
BEGIN:STANDARD
TZOFFSETFROM:+0000
TZOFFSETTO:+0000
TZNAME:UTC
DTSTART:20150101T000000
END:STANDARD
END:VTIMEZONE
BEGIN:VEVENT
DTSTART;TZID=UTC:20201114T080000
DTEND;TZID=UTC:20201114T100000
DTSTAMP:20260425T161526
CREATED:20191226T062251Z
LAST-MODIFIED:20200211T043408Z
UID:1800-1605340800-1605348000@youthnation.org.in
SUMMARY:Basti Me Diwali
DESCRIPTION:
URL:https://youthnation.org.in/event/basti-me-diwali/
LOCATION:Coming Soon
CATEGORIES:upcoming events
ATTACH;FMTTYPE=image/jpeg:https://youthnation.org.in/wp-content/uploads/2017/04/WhatsApp-Image-2019-12-21-at-10.21.53-AM.jpeg
END:VEVENT
BEGIN:VEVENT
DTSTART;TZID=UTC:20200802T100000
DTEND;TZID=UTC:20200802T110000
DTSTAMP:20260425T161526
CREATED:20191226T062228Z
LAST-MODIFIED:20200211T042915Z
UID:1798-1596362400-1596366000@youthnation.org.in
SUMMARY:Real Social Hero
DESCRIPTION:
URL:https://youthnation.org.in/event/real-social-hero-2/
LOCATION:Coming Soon
CATEGORIES:upcoming events
ATTACH;FMTTYPE=image/jpeg:https://youthnation.org.in/wp-content/uploads/2019/12/YN-5.jpg
END:VEVENT
BEGIN:VEVENT
DTSTART;TZID=UTC:20200626T160000
DTEND;TZID=UTC:20200626T180000
DTSTAMP:20260425T161526
CREATED:20191226T061750Z
LAST-MODIFIED:20200211T053837Z
UID:1793-1593187200-1593194400@youthnation.org.in
SUMMARY:World Drugs Day
DESCRIPTION:It is celebrated as The International Day Against Drugs Abuse and Illicit Trafficking which is United Nations International Day against drugs abuse and the illegal trade. With that view Youth Nation along with support of schools and colleges took a lead to present its motto of drugs.
URL:https://youthnation.org.in/event/world-drugs-day-2/
LOCATION:Coming Soon
CATEGORIES:upcoming events
ATTACH;FMTTYPE=image/jpeg:https://youthnation.org.in/wp-content/uploads/2020/02/11.jpg
END:VEVENT
BEGIN:VEVENT
DTSTART;TZID=UTC:20200126T170000
DTEND;TZID=UTC:20200126T230000
DTSTAMP:20260425T161526
CREATED:20170425T101841Z
LAST-MODIFIED:20200211T052658Z
UID:1430-1580058000-1580079600@youthnation.org.in
SUMMARY:Biggest Carnival Ever On Drug Awareness
DESCRIPTION:
URL:https://youthnation.org.in/event/biggest-carnival-ever-on-drug-awareness/
LOCATION:Rahul Raj Mall to Y-Junction\, Dumas Road\, Surat\,Gujarat-395007
CATEGORIES:upcoming events
ATTACH;FMTTYPE=image/jpeg:https://youthnation.org.in/wp-content/uploads/2020/02/10.jpg
END:VEVENT
BEGIN:VEVENT
DTSTART;TZID=UTC:20190126T100000
DTEND;TZID=UTC:20190126T113000
DTSTAMP:20260425T161526
CREATED:20191226T065958Z
LAST-MODIFIED:20200211T055330Z
UID:1839-1548496800-1548502200@youthnation.org.in
SUMMARY:5th Road Show Rally on Drug Awareness
DESCRIPTION:The entire country awaits to see a glimpse of the ‘Say No To Drugs’ rally organized by our NGO known as  Youth Nation every year on 26th January. That’s a real treat \, where more than 200 organizations from all over South Gujarat gather to meet at one place and support to work hand in hand to fight against the social evils through the support of Youth Nation \nApart from the organizing committee of this national event in Surat’s calendar\, apart from social organizations\, hundreds of young leaders and individuals come up with their innovative ideas to make the program the most prestigious one . They give their round the clock support to the organizing committee members to make the rally successful. It is due to the effort of these individuals\, organizations and NGOs which makes the rally one of the most important events against Drugs in Gujarat’s event Calendar. \nThat’s the Power of the Young– Youth Nation
URL:https://youthnation.org.in/event/5th-road-show-rally-on-drug-awareness/
LOCATION:Indoor stadium Lane\, Athwa Line\,Surat\,Gujarat-395007
CATEGORIES:past events
ATTACH;FMTTYPE=image/jpeg:https://youthnation.org.in/wp-content/uploads/2020/02/10.jpg
END:VEVENT
BEGIN:VEVENT
DTSTART;TZID=UTC:20180626T160000
DTEND;TZID=UTC:20180626T180000
DTSTAMP:20260425T161526
CREATED:20191226T065835Z
LAST-MODIFIED:20200211T042624Z
UID:1837-1530028800-1530036000@youthnation.org.in
SUMMARY:World Drugs Day
DESCRIPTION:It is celebrated as The International Day Against Drugs Abuse and Illicit Trafficking which is United Nations International Day against drugs abuse and the illegal trade. With that view Youth Nation along with support of schools and colleges took a lead to present its motto of drugs.
URL:https://youthnation.org.in/event/world-drugs-day/
LOCATION:Indoor stadium Lane\, Athwa Line\,Surat\,Gujarat-395007
CATEGORIES:past events
ATTACH;FMTTYPE=image/jpeg:https://youthnation.org.in/wp-content/uploads/2019/12/WhatsApp-Image-2019-12-21-at-10.21.41-AM.jpeg
END:VEVENT
BEGIN:VEVENT
DTSTART;TZID=UTC:20180126T100000
DTEND;TZID=UTC:20180126T113000
DTSTAMP:20260425T161526
CREATED:20191226T065545Z
LAST-MODIFIED:20200211T053035Z
UID:1835-1516960800-1516966200@youthnation.org.in
SUMMARY:4th Road Show Rally on Drug Awareness
DESCRIPTION:The entire country awaits to see a glimpse of the ‘Say No To Drugs’ rally organized by our NGO known as  Youth Nation every year on 26th January. That’s a real treat \, where more than 200 organizations from all over South Gujarat gather to meet at one place and support to work hand in hand to fight against the social evils through the support of Youth Nation \nApart from the organizing committee of this national event in Surat’s calendar\, apart from social organizations\, hundreds of young leaders and individuals come up with their innovative ideas to make the program the most prestigious one . They give their round the clock support to the organizing committee members to make the rally successful. It is due to the effort of these individuals\, organizations and NGOs which makes the rally one of the most important events against Drugs in Gujarat’s event Calendar. \nThat’s the Power of the Young– Youth Nation
URL:https://youthnation.org.in/event/4th-road-show-rally-on-drug-awareness/
LOCATION:Indoor stadium Lane\, Athwa Line\,Surat\,Gujarat-395007
CATEGORIES:past events
ATTACH;FMTTYPE=image/jpeg:https://youthnation.org.in/wp-content/uploads/2020/02/12.jpg
END:VEVENT
BEGIN:VEVENT
DTSTART;TZID=UTC:20170625T180000
DTEND;TZID=UTC:20170625T200000
DTSTAMP:20260425T161526
CREATED:20191226T065418Z
LAST-MODIFIED:20200211T043856Z
UID:1832-1498413600-1498420800@youthnation.org.in
SUMMARY:Short Film on Drug Awareness - C-DUST
DESCRIPTION:C-DUST is a short film on drugs. The founder\, the young actors and actresses of the film believes that taking an initiative for fighting the battle of drugs is a better feeling for joining the hands for a good cause. This is how Youth Nation is spreading the awareness on drugs through creative ideas
URL:https://youthnation.org.in/event/short-film-on-drug-awareness-c-dust/
LOCATION:VR Surat \, Dumas Road \, magdalla \, Surat \, Gujarat-395007
CATEGORIES:past events
ATTACH;FMTTYPE=image/jpeg:https://youthnation.org.in/wp-content/uploads/2019/12/WhatsApp-Image-2019-12-21-at-10.21.19-AM.jpeg
END:VEVENT
BEGIN:VEVENT
DTSTART;TZID=UTC:20170126T100000
DTEND;TZID=UTC:20170126T113000
DTSTAMP:20260425T161526
CREATED:20191226T065154Z
LAST-MODIFIED:20200211T053044Z
UID:1828-1485424800-1485430200@youthnation.org.in
SUMMARY:3rd Road Show Rally On Drug Awareness
DESCRIPTION:The entire country awaits to see a glimpse of the ‘Say No To Drugs’ rally organized by our NGO known as  Youth Nation every year on 26th January. That’s a real treat \, where more than 200 organizations from all over South Gujarat gather to meet at one place and support to work hand in hand to fight against the social evils through the support of Youth Nation \nApart from the organizing committee of this national event in Surat’s calendar\, apart from social organizations\, hundreds of young leaders and individuals come up with their innovative ideas to make the program the most prestigious one . They give their round the clock support to the organizing committee members to make the rally successful. It is due to the effort of these individuals\, organizations and NGOs which makes the rally one of the most important events against Drugs in Gujarat’s event Calendar. \nThat’s the Power of the Young– Youth Nation
URL:https://youthnation.org.in/event/3rd-road-show-rally-on-drug-awareness/
LOCATION:VR Surat \, Dumas Road \, magdalla \, Surat \, Gujarat-395007
CATEGORIES:past events
ATTACH;FMTTYPE=image/jpeg:https://youthnation.org.in/wp-content/uploads/2020/02/12.jpg
END:VEVENT
BEGIN:VEVENT
DTSTART;TZID=UTC:20170107T123000
DTEND;TZID=UTC:20170107T140000
DTSTAMP:20260425T161526
CREATED:20191226T065044Z
LAST-MODIFIED:20200211T044204Z
UID:1826-1483792200-1483797600@youthnation.org.in
SUMMARY:Pride Of Surat
DESCRIPTION:
URL:https://youthnation.org.in/event/pride-of-surat/
LOCATION:VR Surat \, Dumas Road \, magdalla \, Surat \, Gujarat-395007
CATEGORIES:past events
ATTACH;FMTTYPE=image/jpeg:https://youthnation.org.in/wp-content/uploads/2019/12/WALL-OF-PRIDe.jpg
END:VEVENT
BEGIN:VEVENT
DTSTART;TZID=UTC:20160626T160000
DTEND;TZID=UTC:20160626T180000
DTSTAMP:20260425T161526
CREATED:20191226T064907Z
LAST-MODIFIED:20200211T054231Z
UID:1824-1466956800-1466964000@youthnation.org.in
SUMMARY:World Drugs Day
DESCRIPTION:It is celebrated as The International Day Against Drugs Abuse and Illicit Trafficking which is United Nations International Day against drugs abuse and the illegal trade. With that view Youth Nation along with support of schools and colleges took a lead to present its motto of drugs.
URL:https://youthnation.org.in/event/world-drugs-day-3/
LOCATION:VR Surat \, Dumas Road \, magdalla \, Surat \, Gujarat-395007
CATEGORIES:past events
ATTACH;FMTTYPE=image/jpeg:https://youthnation.org.in/wp-content/uploads/2020/02/11.jpg
END:VEVENT
BEGIN:VEVENT
DTSTART;TZID=UTC:20160126T100000
DTEND;TZID=UTC:20160126T113000
DTSTAMP:20260425T161526
CREATED:20191226T064558Z
LAST-MODIFIED:20200211T053046Z
UID:1822-1453802400-1453807800@youthnation.org.in
SUMMARY:2nd Road Show Rally On Drug Awareness
DESCRIPTION:The entire country awaits to see a glimpse of the ‘Say No To Drugs’ rally organized by our NGO known as  Youth Nation every year on 26th January. That’s a real treat \, where more than 200 organizations from all over South Gujarat gather to meet at one place and support to work hand in hand to fight against the social evils through the support of Youth Nation \nApart from the organizing committee of this national event in Surat’s calendar\, apart from social organizations\, hundreds of young leaders and individuals come up with their innovative ideas to make the program the most prestigious one . They give their round the clock support to the organizing committee members to make the rally successful. It is due to the effort of these individuals\, organizations and NGOs which makes the rally one of the most important events against Drugs in Gujarat’s event Calendar. \nThat’s the Power of the Young– Youth Nation
URL:https://youthnation.org.in/event/2nd-road-show-rally-on-drug-awareness/
LOCATION:Chowpatty Garden Parking \, Athwalines \, Surat \, Gujarat-395007
CATEGORIES:past events
ATTACH;FMTTYPE=image/jpeg:https://youthnation.org.in/wp-content/uploads/2020/02/12.jpg
END:VEVENT
BEGIN:VEVENT
DTSTART;TZID=UTC:20150906T100000
DTEND;TZID=UTC:20150906T113000
DTSTAMP:20260425T161526
CREATED:20191226T064508Z
LAST-MODIFIED:20200211T052210Z
UID:1820-1441533600-1441539000@youthnation.org.in
SUMMARY:Drug Awareness At Dahi Handi
DESCRIPTION:
URL:https://youthnation.org.in/event/drug-awareness-at-dahi-handi/
LOCATION:Indoor stadium Lane\, Athwa Line\,Surat\,Gujarat-395007
CATEGORIES:past events
ATTACH;FMTTYPE=image/jpeg:https://youthnation.org.in/wp-content/uploads/2017/04/focus-5.jpg
END:VEVENT
BEGIN:VEVENT
DTSTART;TZID=UTC:20150510T100000
DTEND;TZID=UTC:20150510T110000
DTSTAMP:20260425T161526
CREATED:20191226T064124Z
LAST-MODIFIED:20200211T044505Z
UID:1818-1431252000-1431255600@youthnation.org.in
SUMMARY:Mothers Day Celebration
DESCRIPTION:
URL:https://youthnation.org.in/event/mothers-day-celebration/
LOCATION:Indoor stadium Lane\, Athwa Line\,Surat\,Gujarat-395007
CATEGORIES:past events
ATTACH;FMTTYPE=image/jpeg:https://youthnation.org.in/wp-content/uploads/2017/04/focus-5.jpg
END:VEVENT
BEGIN:VEVENT
DTSTART;TZID=UTC:20150214T100000
DTEND;TZID=UTC:20150214T110000
DTSTAMP:20260425T161526
CREATED:20191226T064004Z
LAST-MODIFIED:20200211T043021Z
UID:1816-1423908000-1423911600@youthnation.org.in
SUMMARY:Real Social Hero
DESCRIPTION:
URL:https://youthnation.org.in/event/real-social-hero/
LOCATION:Chowpatty Garden Parking \, Athwalines \, Surat \, Gujarat-395007
CATEGORIES:past events
ATTACH;FMTTYPE=image/jpeg:https://youthnation.org.in/wp-content/uploads/2019/12/YN-5.jpg
END:VEVENT
BEGIN:VEVENT
DTSTART;TZID=UTC:20150126T100000
DTEND;TZID=UTC:20150126T113000
DTSTAMP:20260425T161526
CREATED:20191226T062513Z
LAST-MODIFIED:20200211T053051Z
UID:1802-1422266400-1422271800@youthnation.org.in
SUMMARY:1st Road Show Rally On Drug Awareness
DESCRIPTION:The entire country awaits to see a glimpse of the ‘Say No To Drugs’ rally organized by our NGO known as  Youth Nation every year on 26th January. That’s a real treat \, where more than 200 organizations from all over South Gujarat gather to meet at one place and support to work hand in hand to fight against the social evils through the support of Youth Nation \nApart from the organizing committee of this national event in Surat’s calendar\, apart from social organizations\, hundreds of young leaders and individuals come up with their innovative ideas to make the program the most prestigious one . They give their round the clock support to the organizing committee members to make the rally successful. It is due to the effort of these individuals\, organizations and NGOs which makes the rally one of the most important events against Drugs in Gujarat’s event Calendar. \nThat’s the Power of the Young– Youth Nation
URL:https://youthnation.org.in/event/1st-road-show-rally-on-drug-awareness/
LOCATION:Vanita Vishram Ground\, Athwa Gate\, Surat \, Gujarat – 395007
CATEGORIES:past events
ATTACH;FMTTYPE=image/jpeg:https://youthnation.org.in/wp-content/uploads/2020/02/12.jpg
END:VEVENT
END:VCALENDAR